BEGIN:VCALENDAR
VERSION:2.0
PRODID:-//Play Graeagle - ECPv6.15.20//NONSGML v1.0//EN
CALSCALE:GREGORIAN
METHOD:PUBLISH
X-ORIGINAL-URL:https://playgraeagle.com
X-WR-CALDESC:Events for Play Graeagle
REFRESH-INTERVAL;VALUE=DURATION:PT1H
X-Robots-Tag:noindex
X-PUBLISHED-TTL:PT1H
BEGIN:VTIMEZONE
TZID:America/Los_Angeles
BEGIN:DAYLIGHT
TZOFFSETFROM:-0800
TZOFFSETTO:-0700
TZNAME:PDT
DTSTART:20220313T100000
END:DAYLIGHT
BEGIN:STANDARD
TZOFFSETFROM:-0700
TZOFFSETTO:-0800
TZNAME:PST
DTSTART:20221106T090000
END:STANDARD
BEGIN:DAYLIGHT
TZOFFSETFROM:-0800
TZOFFSETTO:-0700
TZNAME:PDT
DTSTART:20230312T100000
END:DAYLIGHT
BEGIN:STANDARD
TZOFFSETFROM:-0700
TZOFFSETTO:-0800
TZNAME:PST
DTSTART:20231105T090000
END:STANDARD
BEGIN:DAYLIGHT
TZOFFSETFROM:-0800
TZOFFSETTO:-0700
TZNAME:PDT
DTSTART:20240310T100000
END:DAYLIGHT
BEGIN:STANDARD
TZOFFSETFROM:-0700
TZOFFSETTO:-0800
TZNAME:PST
DTSTART:20241103T090000
END:STANDARD
BEGIN:DAYLIGHT
TZOFFSETFROM:-0800
TZOFFSETTO:-0700
TZNAME:PDT
DTSTART:20250309T100000
END:DAYLIGHT
BEGIN:STANDARD
TZOFFSETFROM:-0700
TZOFFSETTO:-0800
TZNAME:PST
DTSTART:20251102T090000
END:STANDARD
END:VTIMEZONE
BEGIN:VEVENT
DTSTART;VALUE=DATE:20230819
DTEND;VALUE=DATE:20230821
DTSTAMP:20260425T165408
CREATED:20221020T175457Z
LAST-MODIFIED:20230724T160444Z
UID:7005-1692403200-1692575999@playgraeagle.com
SUMMARY:Professional Artisan's Craft Fair
DESCRIPTION:
URL:https://playgraeagle.com/event/professional-artisans-craft-fair/
LOCATION:Herb Rowe Park\, Downtown Graeagle\, Graeagle\, Ca\, 96103\, United States
CATEGORIES:Community Event
ATTACH;FMTTYPE=image/jpeg:https://playgraeagle.com/wp-content/uploads/2022/10/Graeagle-Poster-2023-scaled.jpg
END:VEVENT
BEGIN:VEVENT
DTSTART;VALUE=DATE:20230916
DTEND;VALUE=DATE:20230917
DTSTAMP:20260425T165408
CREATED:20230912T213231Z
LAST-MODIFIED:20230912T213231Z
UID:7454-1694822400-1694908799@playgraeagle.com
SUMMARY:Mill's Peak
DESCRIPTION:We are excited to introduce a brand new mountain bike event to Northern California!The Mills Peak Bike Race features an all-mountain cross country race starting in the Town of Graeagle. The course climbs up 11 miles to the very top of Mills Peak\, and then drops down the Mills Peak downhill trail all the way back to town. The Mills Peak Bike Race also features a race within a race. Within the fully timed cross country race\, each racer will also be timed on the downhill portion of the course. Starting at the very top of Mills Peak downhill\, the timer starts for each racer as they drop into the 8.5 mile descent. Awards will be given to the top 3 racers in the cross country race as well as the fastest rider of the downhill within each category.
URL:https://playgraeagle.com/event/mills-peak/
LOCATION:Graeagle Mill Pond
CATEGORIES:Community Event
ATTACH;FMTTYPE=image/png:https://playgraeagle.com/wp-content/uploads/2023/09/Screenshot-2023-09-08-at-10-40-08-Home-Mills-Peak-Bike-Race.png
END:VEVENT
BEGIN:VEVENT
DTSTART;TZID=America/Los_Angeles:20230923T090000
DTEND;TZID=America/Los_Angeles:20230923T170000
DTSTAMP:20260425T165408
CREATED:20230912T213715Z
LAST-MODIFIED:20230912T213715Z
UID:7459-1695459600-1695488400@playgraeagle.com
SUMMARY:Mission Pawsible
DESCRIPTION:
URL:https://playgraeagle.com/event/mission-pawsible/
CATEGORIES:Community Event
ATTACH;FMTTYPE=image/jpeg:https://playgraeagle.com/wp-content/uploads/2023/09/HSAR.jpg
END:VEVENT
BEGIN:VEVENT
DTSTART;TZID=America/Los_Angeles:20230923T100000
DTEND;TZID=America/Los_Angeles:20230923T160000
DTSTAMP:20260425T165408
CREATED:20230912T212258Z
LAST-MODIFIED:20230912T212258Z
UID:7448-1695463200-1695484800@playgraeagle.com
SUMMARY:Art & Ag Trail
DESCRIPTION:The Sierra Valley Art + Ag Trail is coming soon. there will be many ranches open to the public on Saturday\, September 23 from 10 to 4. \nThere will be three “Trailheads” where you can pick up the map and list of which artist is at each ranch available at each Trailhead starting at 9:30 Am on Sept. 23. \nhttps://www.facebook.com/SierraValleyArtAgTrail
URL:https://playgraeagle.com/event/art-ag-trail/
CATEGORIES:Community Event
ATTACH;FMTTYPE=image/jpeg:https://playgraeagle.com/wp-content/uploads/2023/09/376915338_7280122022002261_4162030921656670061_n.jpg
END:VEVENT
BEGIN:VEVENT
DTSTART;VALUE=DATE:20231007
DTEND;VALUE=DATE:20231008
DTSTAMP:20260425T165408
CREATED:20230912T211508Z
LAST-MODIFIED:20230912T211508Z
UID:7439-1696636800-1696723199@playgraeagle.com
SUMMARY:Battle of the Battalions Charity Golf Tournament
DESCRIPTION:Battle of the Battalions Registration Form
URL:https://playgraeagle.com/event/battle-of-the-battalions-charity-golf-tournament/
LOCATION:Graeagle Meadows\, 6934 CA-89\, Graeagle\, CA\, 96103\, United States
CATEGORIES:Community Event,Golf
ATTACH;FMTTYPE=image/jpeg:https://playgraeagle.com/wp-content/uploads/2023/09/battle-of-the-battalions-3-scaled.jpg
ORGANIZER;CN="Bill Melms":MAILTO:brmelms@gmail.com
END:VEVENT
BEGIN:VEVENT
DTSTART;TZID=America/Los_Angeles:20231028T160000
DTEND;TZID=America/Los_Angeles:20231028T180000
DTSTAMP:20260425T165408
CREATED:20230912T212814Z
LAST-MODIFIED:20230912T212814Z
UID:7451-1698508800-1698516000@playgraeagle.com
SUMMARY:Graeagle Trick or Treat
DESCRIPTION:
URL:https://playgraeagle.com/event/graeagle-trick-or-treat-2/
LOCATION:Downtown Graeagle\, Graeagle\, Ca\, CA\, 96103\, United States
CATEGORIES:Community Event
ATTACH;FMTTYPE=image/jpeg:https://playgraeagle.com/wp-content/uploads/2023/09/Graeagle-scaled.jpg
END:VEVENT
BEGIN:VEVENT
DTSTART;VALUE=DATE:20240505
DTEND;VALUE=DATE:20240506
DTSTAMP:20260425T165408
CREATED:20240313T235953Z
LAST-MODIFIED:20240314T000238Z
UID:7797-1714867200-1714953599@playgraeagle.com
SUMMARY:Golf Tournament to Support Graeagle Independence Day Celebration
DESCRIPTION:Golf Tournament to support the Graeagle Independence Day Celebration.
URL:https://playgraeagle.com/event/golf-tournament-to-support-graeagle-independence-day-celebration/
LOCATION:Graeagle Meadows\, 6934 CA-89\, Graeagle\, CA\, 96103\, United States
CATEGORIES:Community Event,Golf
ATTACH;FMTTYPE=image/jpeg:https://playgraeagle.com/wp-content/uploads/2024/03/GRAEAGLE-INDEPENDENCE-DAY-GOLF-3.jpg
END:VEVENT
BEGIN:VEVENT
DTSTART;TZID=America/Los_Angeles:20240518T073000
DTEND;TZID=America/Los_Angeles:20240518T120000
DTSTAMP:20260425T165408
CREATED:20240429T194503Z
LAST-MODIFIED:20240429T194503Z
UID:7832-1716017400-1716033600@playgraeagle.com
SUMMARY:Trout Unlimited Fishing Derby
DESCRIPTION:
URL:https://playgraeagle.com/event/trout-unlimited-fishing-derby/
LOCATION:Graeagle Mill Pond
CATEGORIES:Community Event
ATTACH;FMTTYPE=image/jpeg:https://playgraeagle.com/wp-content/uploads/2024/04/fishing-derby-scaled.jpg
END:VEVENT
BEGIN:VEVENT
DTSTART;VALUE=DATE:20240706
DTEND;VALUE=DATE:20240707
DTSTAMP:20260425T165408
CREATED:20240314T002711Z
LAST-MODIFIED:20240314T002906Z
UID:7812-1720224000-1720310399@playgraeagle.com
SUMMARY:Graeagle Independence Day Celebration
DESCRIPTION:
URL:https://playgraeagle.com/event/graeagle-independence-day-celebration/
LOCATION:Downtown Graeagle\, Graeagle\, Ca\, CA\, 96103\, United States
CATEGORIES:Community Event
ATTACH;FMTTYPE=image/jpeg:https://playgraeagle.com/wp-content/uploads/2019/06/50th-Anniversary.jpg
END:VEVENT
BEGIN:VEVENT
DTSTART;VALUE=DATE:20240720
DTEND;VALUE=DATE:20240722
DTSTAMP:20260425T165409
CREATED:20240314T225329Z
LAST-MODIFIED:20240605T183233Z
UID:7815-1721433600-1721606399@playgraeagle.com
SUMMARY:Great American Craft Fair
DESCRIPTION:
URL:https://playgraeagle.com/event/great-american-craft-fair-3/
LOCATION:Herb Rowe Park\, Downtown Graeagle\, Graeagle\, Ca\, 96103\, United States
CATEGORIES:Community Event
END:VEVENT
BEGIN:VEVENT
DTSTART;VALUE=DATE:20240817
DTEND;VALUE=DATE:20240819
DTSTAMP:20260425T165409
CREATED:20240314T230439Z
LAST-MODIFIED:20240314T230439Z
UID:7819-1723852800-1724025599@playgraeagle.com
SUMMARY:Lost Sierra Artist and Crafters Fair
DESCRIPTION:
URL:https://playgraeagle.com/event/lost-sierra-artist-and-crafters-fair/
LOCATION:Herb Rowe Park\, Downtown Graeagle\, Graeagle\, Ca\, 96103\, United States
CATEGORIES:Community Event
END:VEVENT
END:VCALENDAR