BEGIN:VCALENDAR
VERSION:2.0
PRODID:-//Play Graeagle - ECPv6.15.20//NONSGML v1.0//EN
CALSCALE:GREGORIAN
METHOD:PUBLISH
X-ORIGINAL-URL:https://playgraeagle.com
X-WR-CALDESC:Events for Play Graeagle
REFRESH-INTERVAL;VALUE=DURATION:PT1H
X-Robots-Tag:noindex
X-PUBLISHED-TTL:PT1H
BEGIN:VTIMEZONE
TZID:America/Los_Angeles
BEGIN:DAYLIGHT
TZOFFSETFROM:-0800
TZOFFSETTO:-0700
TZNAME:PDT
DTSTART:20210314T100000
END:DAYLIGHT
BEGIN:STANDARD
TZOFFSETFROM:-0700
TZOFFSETTO:-0800
TZNAME:PST
DTSTART:20211107T090000
END:STANDARD
BEGIN:DAYLIGHT
TZOFFSETFROM:-0800
TZOFFSETTO:-0700
TZNAME:PDT
DTSTART:20220313T100000
END:DAYLIGHT
BEGIN:STANDARD
TZOFFSETFROM:-0700
TZOFFSETTO:-0800
TZNAME:PST
DTSTART:20221106T090000
END:STANDARD
BEGIN:DAYLIGHT
TZOFFSETFROM:-0800
TZOFFSETTO:-0700
TZNAME:PDT
DTSTART:20230312T100000
END:DAYLIGHT
BEGIN:STANDARD
TZOFFSETFROM:-0700
TZOFFSETTO:-0800
TZNAME:PST
DTSTART:20231105T090000
END:STANDARD
BEGIN:DAYLIGHT
TZOFFSETFROM:-0800
TZOFFSETTO:-0700
TZNAME:PDT
DTSTART:20240310T100000
END:DAYLIGHT
BEGIN:STANDARD
TZOFFSETFROM:-0700
TZOFFSETTO:-0800
TZNAME:PST
DTSTART:20241103T090000
END:STANDARD
END:VTIMEZONE
BEGIN:VEVENT
DTSTART;VALUE=DATE:20230819
DTEND;VALUE=DATE:20230821
DTSTAMP:20260424T062056
CREATED:20221020T175457Z
LAST-MODIFIED:20230724T160444Z
UID:7005-1692403200-1692575999@playgraeagle.com
SUMMARY:Professional Artisan's Craft Fair
DESCRIPTION:
URL:https://playgraeagle.com/event/professional-artisans-craft-fair/
LOCATION:Herb Rowe Park\, Downtown Graeagle\, Graeagle\, Ca\, 96103\, United States
CATEGORIES:Community Event
ATTACH;FMTTYPE=image/jpeg:https://playgraeagle.com/wp-content/uploads/2022/10/Graeagle-Poster-2023-scaled.jpg
END:VEVENT
BEGIN:VEVENT
DTSTART;VALUE=DATE:20230728
DTEND;VALUE=DATE:20230730
DTSTAMP:20260424T062056
CREATED:20211108T202407Z
LAST-MODIFIED:20230510T162528Z
UID:6828-1690502400-1690675199@playgraeagle.com
SUMMARY:GMGA Invitational Golf Tournament
DESCRIPTION:Dates:  Friday\, July 28th and Saturday\, July 29th \nFormat:  Four Man Team\, one being a GMGA member\, and everyone having a valid GHIN handicap. Two Best Ball both days.  Horse Race on Friday afternoon after play. \nThis will be a unique year with special tee prizes\, a steak dinner\, entertainment\, and more. \nStart forming your teams now. To expose as many players as possible to our outstanding course and the experience of Graeagle\, we plan on having a maximum of two GMGA members per team; one member would be even better.  We expect to have a full field\, so get your invites out now. \nStand by with exciting details to follow. \n–Jeff Monaghan
URL:https://playgraeagle.com/event/gmga-invitational-golf-tournament/
LOCATION:Graeagle Meadows\, 6934 CA-89\, Graeagle\, CA\, 96103\, United States
CATEGORIES:Community Event,Golf
END:VEVENT
BEGIN:VEVENT
DTSTART;VALUE=DATE:20230714
DTEND;VALUE=DATE:20230717
DTSTAMP:20260424T062056
CREATED:20221020T175203Z
LAST-MODIFIED:20230608T174624Z
UID:7002-1689292800-1689551999@playgraeagle.com
SUMMARY:Great American Craft Fair
DESCRIPTION:
URL:https://playgraeagle.com/event/great-american-craft-fair-2/
LOCATION:Herb Rowe Park\, Downtown Graeagle\, Graeagle\, Ca\, 96103\, United States
CATEGORIES:Community Event
ATTACH;FMTTYPE=image/png:https://playgraeagle.com/wp-content/uploads/2022/10/GACF.png
ORGANIZER;CN="Brighton Denison":MAILTO:gacf@mcn.org
END:VEVENT
BEGIN:VEVENT
DTSTART;TZID=America/Los_Angeles:20230520T070000
DTEND;TZID=America/Los_Angeles:20230520T120000
DTSTAMP:20260424T062056
CREATED:20230314T180522Z
LAST-MODIFIED:20230517T190103Z
UID:7345-1684566000-1684584000@playgraeagle.com
SUMMARY:Fishing Derby
DESCRIPTION:
URL:https://playgraeagle.com/event/fishing-derby-2/
LOCATION:Graeagle Mill Pond
CATEGORIES:Community Event
ATTACH;FMTTYPE=image/jpeg:https://playgraeagle.com/wp-content/uploads/2020/02/DSC_0007-scaled-e1678819694581.jpg
END:VEVENT
BEGIN:VEVENT
DTSTART;VALUE=DATE:20230319
DTEND;VALUE=DATE:20230320
DTSTAMP:20260424T062056
CREATED:20221118T001031Z
LAST-MODIFIED:20221118T001031Z
UID:7042-1679184000-1679270399@playgraeagle.com
SUMMARY:Longboard Races
DESCRIPTION:
URL:https://playgraeagle.com/event/longboard-races-3/
LOCATION:Johnsville Ski Hll
CATEGORIES:Community Event
ATTACH;FMTTYPE=image/jpeg:https://playgraeagle.com/wp-content/uploads/2022/11/longboard-flyer-2023.jpg
END:VEVENT
BEGIN:VEVENT
DTSTART;VALUE=DATE:20230219
DTEND;VALUE=DATE:20230220
DTSTAMP:20260424T062056
CREATED:20221118T000933Z
LAST-MODIFIED:20221118T000933Z
UID:7038-1676764800-1676851199@playgraeagle.com
SUMMARY:Longboard Races
DESCRIPTION:
URL:https://playgraeagle.com/event/longboard-races-2/
LOCATION:Johnsville Ski Hll
CATEGORIES:Community Event
ATTACH;FMTTYPE=image/jpeg:https://playgraeagle.com/wp-content/uploads/2022/11/longboard-flyer-2023.jpg
END:VEVENT
BEGIN:VEVENT
DTSTART;VALUE=DATE:20230115
DTEND;VALUE=DATE:20230116
DTSTAMP:20260424T062056
CREATED:20221118T000744Z
LAST-MODIFIED:20221118T000744Z
UID:7033-1673740800-1673827199@playgraeagle.com
SUMMARY:Longboard Races
DESCRIPTION:
URL:https://playgraeagle.com/event/longboard-races/
CATEGORIES:Community Event
ATTACH;FMTTYPE=image/jpeg:https://playgraeagle.com/wp-content/uploads/2022/11/longboard-flyer-2023.jpg
END:VEVENT
BEGIN:VEVENT
DTSTART;TZID=America/Los_Angeles:20221203T130000
DTEND;TZID=America/Los_Angeles:20221203T170000
DTSTAMP:20260424T062056
CREATED:20221118T000221Z
LAST-MODIFIED:20221118T000221Z
UID:7029-1670072400-1670086800@playgraeagle.com
SUMMARY:Downtown Graeagle Holiday Festival
DESCRIPTION:
URL:https://playgraeagle.com/event/downtown-graeagle-holiday-festival/
LOCATION:Herb Rowe Park\, Downtown Graeagle\, Graeagle\, Ca\, 96103\, United States
CATEGORIES:Community Event
ATTACH;FMTTYPE=image/jpeg:https://playgraeagle.com/wp-content/uploads/2022/11/315533104_143996558388331_1234840360195137254_n.jpg
END:VEVENT
BEGIN:VEVENT
DTSTART;TZID=America/Los_Angeles:20221029T160000
DTEND;TZID=America/Los_Angeles:20221029T180000
DTSTAMP:20260424T062056
CREATED:20221011T202838Z
LAST-MODIFIED:20221011T203055Z
UID:6959-1667059200-1667066400@playgraeagle.com
SUMMARY:Graeagle Trick or Treat
DESCRIPTION:
URL:https://playgraeagle.com/event/graeagle-trick-or-treat/
LOCATION:Downtown Graeagle\, Graeagle\, Ca\, CA\, 96103\, United States
CATEGORIES:Community Event
ATTACH;FMTTYPE=image/jpeg:https://playgraeagle.com/wp-content/uploads/2022/10/IMG-4482.jpg
END:VEVENT
BEGIN:VEVENT
DTSTART;VALUE=DATE:20220531
DTEND;VALUE=DATE:20220605
DTSTAMP:20260424T062056
CREATED:20220510T224427Z
LAST-MODIFIED:20220510T224800Z
UID:6899-1653955200-1654387199@playgraeagle.com
SUMMARY:The Lost Sierra Plein Air Art Festival
DESCRIPTION:Join us for our 1st annual Lost Sierra Plein Air Festival in beautiful Quincy California.  Plein air artists from across the country will converge on the Lost Sierra to paint the vast vistas and small towns of the area.  There will be painting demonstrations\, workshops\, and the First Friday Gallery Art Walk; including the artist reception and awards ceremony in the Gallery at Bear Creek Frames.  The festival will culminate with a quick draw competition and “Off The Easel Sale” at the Saturday Morning Market in downtown Quincy on June 4th.  Vendors and food booths fill the park during the Market.  Nearby at Plumas County Fairgrounds\, the Sierra Cascade Street Rodders Car Show is also taking place.  Come join us for this fun event!
URL:https://playgraeagle.com/event/the-lost-sierra-plein-air-art-festival/
CATEGORIES:Community Event
ATTACH;FMTTYPE=image/jpeg:https://playgraeagle.com/wp-content/uploads/2022/05/lost-sierra-plein-air-art-flyer-final2-scaled.jpg
END:VEVENT
BEGIN:VEVENT
DTSTART;TZID=America/Los_Angeles:20220521T073000
DTEND;TZID=America/Los_Angeles:20220521T120000
DTSTAMP:20260424T062056
CREATED:20220510T231811Z
LAST-MODIFIED:20220510T231823Z
UID:6912-1653118200-1653134400@playgraeagle.com
SUMMARY:Fishing Derby
DESCRIPTION:Trout Unlimited Kids Fishing Derby
URL:https://playgraeagle.com/event/fishing-derby/
LOCATION:Graeagle Mill Pond
CATEGORIES:Community Event
END:VEVENT
END:VCALENDAR