BEGIN:VCALENDAR
VERSION:2.0
PRODID:-//Play Graeagle - ECPv6.15.20//NONSGML v1.0//EN
CALSCALE:GREGORIAN
METHOD:PUBLISH
X-WR-CALNAME:Play Graeagle
X-ORIGINAL-URL:https://playgraeagle.com
X-WR-CALDESC:Events for Play Graeagle
REFRESH-INTERVAL;VALUE=DURATION:PT1H
X-Robots-Tag:noindex
X-PUBLISHED-TTL:PT1H
BEGIN:VTIMEZONE
TZID:America/Los_Angeles
BEGIN:DAYLIGHT
TZOFFSETFROM:-0800
TZOFFSETTO:-0700
TZNAME:PDT
DTSTART:20220313T100000
END:DAYLIGHT
BEGIN:STANDARD
TZOFFSETFROM:-0700
TZOFFSETTO:-0800
TZNAME:PST
DTSTART:20221106T090000
END:STANDARD
BEGIN:DAYLIGHT
TZOFFSETFROM:-0800
TZOFFSETTO:-0700
TZNAME:PDT
DTSTART:20230312T100000
END:DAYLIGHT
BEGIN:STANDARD
TZOFFSETFROM:-0700
TZOFFSETTO:-0800
TZNAME:PST
DTSTART:20231105T090000
END:STANDARD
BEGIN:DAYLIGHT
TZOFFSETFROM:-0800
TZOFFSETTO:-0700
TZNAME:PDT
DTSTART:20240310T100000
END:DAYLIGHT
BEGIN:STANDARD
TZOFFSETFROM:-0700
TZOFFSETTO:-0800
TZNAME:PST
DTSTART:20241103T090000
END:STANDARD
END:VTIMEZONE
BEGIN:VEVENT
DTSTART;VALUE=DATE:20231007
DTEND;VALUE=DATE:20231008
DTSTAMP:20260424T155248
CREATED:20230912T211508Z
LAST-MODIFIED:20230912T211508Z
UID:7439-1696636800-1696723199@playgraeagle.com
SUMMARY:Battle of the Battalions Charity Golf Tournament
DESCRIPTION:Battle of the Battalions Registration Form
URL:https://playgraeagle.com/event/battle-of-the-battalions-charity-golf-tournament/
LOCATION:Graeagle Meadows\, 6934 CA-89\, Graeagle\, CA\, 96103\, United States
CATEGORIES:Community Event,Golf
ATTACH;FMTTYPE=image/jpeg:https://playgraeagle.com/wp-content/uploads/2023/09/battle-of-the-battalions-3-scaled.jpg
ORGANIZER;CN="Bill Melms":MAILTO:brmelms@gmail.com
END:VEVENT
END:VCALENDAR