BEGIN:VCALENDAR
VERSION:2.0
PRODID:-//Play Graeagle - ECPv6.15.20//NONSGML v1.0//EN
CALSCALE:GREGORIAN
METHOD:PUBLISH
X-ORIGINAL-URL:https://playgraeagle.com
X-WR-CALDESC:Events for Play Graeagle
REFRESH-INTERVAL;VALUE=DURATION:PT1H
X-Robots-Tag:noindex
X-PUBLISHED-TTL:PT1H
BEGIN:VTIMEZONE
TZID:America/Los_Angeles
BEGIN:DAYLIGHT
TZOFFSETFROM:-0800
TZOFFSETTO:-0700
TZNAME:PDT
DTSTART:20220313T100000
END:DAYLIGHT
BEGIN:STANDARD
TZOFFSETFROM:-0700
TZOFFSETTO:-0800
TZNAME:PST
DTSTART:20221106T090000
END:STANDARD
BEGIN:DAYLIGHT
TZOFFSETFROM:-0800
TZOFFSETTO:-0700
TZNAME:PDT
DTSTART:20230312T100000
END:DAYLIGHT
BEGIN:STANDARD
TZOFFSETFROM:-0700
TZOFFSETTO:-0800
TZNAME:PST
DTSTART:20231105T090000
END:STANDARD
BEGIN:DAYLIGHT
TZOFFSETFROM:-0800
TZOFFSETTO:-0700
TZNAME:PDT
DTSTART:20240310T100000
END:DAYLIGHT
BEGIN:STANDARD
TZOFFSETFROM:-0700
TZOFFSETTO:-0800
TZNAME:PST
DTSTART:20241103T090000
END:STANDARD
END:VTIMEZONE
BEGIN:VEVENT
DTSTART;VALUE=DATE:20230916
DTEND;VALUE=DATE:20230917
DTSTAMP:20260424T171850
CREATED:20230912T213231Z
LAST-MODIFIED:20230912T213231Z
UID:7454-1694822400-1694908799@playgraeagle.com
SUMMARY:Mill's Peak
DESCRIPTION:We are excited to introduce a brand new mountain bike event to Northern California!The Mills Peak Bike Race features an all-mountain cross country race starting in the Town of Graeagle. The course climbs up 11 miles to the very top of Mills Peak\, and then drops down the Mills Peak downhill trail all the way back to town. The Mills Peak Bike Race also features a race within a race. Within the fully timed cross country race\, each racer will also be timed on the downhill portion of the course. Starting at the very top of Mills Peak downhill\, the timer starts for each racer as they drop into the 8.5 mile descent. Awards will be given to the top 3 racers in the cross country race as well as the fastest rider of the downhill within each category.
URL:https://playgraeagle.com/event/mills-peak/
LOCATION:Graeagle Mill Pond
CATEGORIES:Community Event
ATTACH;FMTTYPE=image/png:https://playgraeagle.com/wp-content/uploads/2023/09/Screenshot-2023-09-08-at-10-40-08-Home-Mills-Peak-Bike-Race.png
END:VEVENT
END:VCALENDAR