BEGIN:VCALENDAR
VERSION:2.0
PRODID:-//Play Graeagle - ECPv6.15.20//NONSGML v1.0//EN
CALSCALE:GREGORIAN
METHOD:PUBLISH
X-WR-CALNAME:Play Graeagle
X-ORIGINAL-URL:https://playgraeagle.com
X-WR-CALDESC:Events for Play Graeagle
REFRESH-INTERVAL;VALUE=DURATION:PT1H
X-Robots-Tag:noindex
X-PUBLISHED-TTL:PT1H
BEGIN:VTIMEZONE
TZID:America/Los_Angeles
BEGIN:DAYLIGHT
TZOFFSETFROM:-0800
TZOFFSETTO:-0700
TZNAME:PDT
DTSTART:20210314T100000
END:DAYLIGHT
BEGIN:STANDARD
TZOFFSETFROM:-0700
TZOFFSETTO:-0800
TZNAME:PST
DTSTART:20211107T090000
END:STANDARD
BEGIN:DAYLIGHT
TZOFFSETFROM:-0800
TZOFFSETTO:-0700
TZNAME:PDT
DTSTART:20220313T100000
END:DAYLIGHT
BEGIN:STANDARD
TZOFFSETFROM:-0700
TZOFFSETTO:-0800
TZNAME:PST
DTSTART:20221106T090000
END:STANDARD
BEGIN:DAYLIGHT
TZOFFSETFROM:-0800
TZOFFSETTO:-0700
TZNAME:PDT
DTSTART:20230312T100000
END:DAYLIGHT
BEGIN:STANDARD
TZOFFSETFROM:-0700
TZOFFSETTO:-0800
TZNAME:PST
DTSTART:20231105T090000
END:STANDARD
END:VTIMEZONE
BEGIN:VEVENT
DTSTART;VALUE=DATE:20220531
DTEND;VALUE=DATE:20220605
DTSTAMP:20260425T134418
CREATED:20220510T224427Z
LAST-MODIFIED:20220510T224800Z
UID:6899-1653955200-1654387199@playgraeagle.com
SUMMARY:The Lost Sierra Plein Air Art Festival
DESCRIPTION:Join us for our 1st annual Lost Sierra Plein Air Festival in beautiful Quincy California.  Plein air artists from across the country will converge on the Lost Sierra to paint the vast vistas and small towns of the area.  There will be painting demonstrations\, workshops\, and the First Friday Gallery Art Walk; including the artist reception and awards ceremony in the Gallery at Bear Creek Frames.  The festival will culminate with a quick draw competition and “Off The Easel Sale” at the Saturday Morning Market in downtown Quincy on June 4th.  Vendors and food booths fill the park during the Market.  Nearby at Plumas County Fairgrounds\, the Sierra Cascade Street Rodders Car Show is also taking place.  Come join us for this fun event!
URL:https://playgraeagle.com/event/the-lost-sierra-plein-air-art-festival/
CATEGORIES:Community Event
ATTACH;FMTTYPE=image/jpeg:https://playgraeagle.com/wp-content/uploads/2022/05/lost-sierra-plein-air-art-flyer-final2-scaled.jpg
END:VEVENT
END:VCALENDAR