BEGIN:VCALENDAR
VERSION:2.0
PRODID:-//Play Graeagle - ECPv6.15.20//NONSGML v1.0//EN
CALSCALE:GREGORIAN
METHOD:PUBLISH
X-WR-CALNAME:Play Graeagle
X-ORIGINAL-URL:https://playgraeagle.com
X-WR-CALDESC:Events for Play Graeagle
REFRESH-INTERVAL;VALUE=DURATION:PT1H
X-Robots-Tag:noindex
X-PUBLISHED-TTL:PT1H
BEGIN:VTIMEZONE
TZID:America/Los_Angeles
BEGIN:DAYLIGHT
TZOFFSETFROM:-0800
TZOFFSETTO:-0700
TZNAME:PDT
DTSTART:20220313T100000
END:DAYLIGHT
BEGIN:STANDARD
TZOFFSETFROM:-0700
TZOFFSETTO:-0800
TZNAME:PST
DTSTART:20221106T090000
END:STANDARD
BEGIN:DAYLIGHT
TZOFFSETFROM:-0800
TZOFFSETTO:-0700
TZNAME:PDT
DTSTART:20230312T100000
END:DAYLIGHT
BEGIN:STANDARD
TZOFFSETFROM:-0700
TZOFFSETTO:-0800
TZNAME:PST
DTSTART:20231105T090000
END:STANDARD
BEGIN:DAYLIGHT
TZOFFSETFROM:-0800
TZOFFSETTO:-0700
TZNAME:PDT
DTSTART:20240310T100000
END:DAYLIGHT
BEGIN:STANDARD
TZOFFSETFROM:-0700
TZOFFSETTO:-0800
TZNAME:PST
DTSTART:20241103T090000
END:STANDARD
END:VTIMEZONE
BEGIN:VEVENT
DTSTART;VALUE=DATE:20230714
DTEND;VALUE=DATE:20230717
DTSTAMP:20260424T183700
CREATED:20221020T175203Z
LAST-MODIFIED:20230608T174624Z
UID:7002-1689292800-1689551999@playgraeagle.com
SUMMARY:Great American Craft Fair
DESCRIPTION:
URL:https://playgraeagle.com/event/great-american-craft-fair-2/
LOCATION:Herb Rowe Park\, Downtown Graeagle\, Graeagle\, Ca\, 96103\, United States
CATEGORIES:Community Event
ATTACH;FMTTYPE=image/png:https://playgraeagle.com/wp-content/uploads/2022/10/GACF.png
ORGANIZER;CN="Brighton Denison":MAILTO:gacf@mcn.org
END:VEVENT
BEGIN:VEVENT
DTSTART;VALUE=DATE:20230728
DTEND;VALUE=DATE:20230730
DTSTAMP:20260424T183700
CREATED:20211108T202407Z
LAST-MODIFIED:20230510T162528Z
UID:6828-1690502400-1690675199@playgraeagle.com
SUMMARY:GMGA Invitational Golf Tournament
DESCRIPTION:Dates:  Friday\, July 28th and Saturday\, July 29th \nFormat:  Four Man Team\, one being a GMGA member\, and everyone having a valid GHIN handicap. Two Best Ball both days.  Horse Race on Friday afternoon after play. \nThis will be a unique year with special tee prizes\, a steak dinner\, entertainment\, and more. \nStart forming your teams now. To expose as many players as possible to our outstanding course and the experience of Graeagle\, we plan on having a maximum of two GMGA members per team; one member would be even better.  We expect to have a full field\, so get your invites out now. \nStand by with exciting details to follow. \n–Jeff Monaghan
URL:https://playgraeagle.com/event/gmga-invitational-golf-tournament/
LOCATION:Graeagle Meadows\, 6934 CA-89\, Graeagle\, CA\, 96103\, United States
CATEGORIES:Community Event,Golf
END:VEVENT
END:VCALENDAR